BEGIN:VCALENDAR
VERSION:2.0
PRODID:-//Risk and Resilience Hub - ECPv6.15.18//NONSGML v1.0//EN
CALSCALE:GREGORIAN
METHOD:PUBLISH
X-ORIGINAL-URL:https://riskandresiliencehub.com
X-WR-CALDESC:Events for Risk and Resilience Hub
REFRESH-INTERVAL;VALUE=DURATION:PT1H
X-Robots-Tag:noindex
X-PUBLISHED-TTL:PT1H
BEGIN:VTIMEZONE
TZID:UTC
BEGIN:STANDARD
TZOFFSETFROM:+0000
TZOFFSETTO:+0000
TZNAME:UTC
DTSTART:20250101T000000
END:STANDARD
END:VTIMEZONE
BEGIN:VEVENT
DTSTART;VALUE=DATE:20260420
DTEND;VALUE=DATE:20260423
DTSTAMP:20260425T023430
CREATED:20251206T194034Z
LAST-MODIFIED:20251206T194034Z
UID:10000301-1776643200-1776902399@riskandresiliencehub.com
SUMMARY:Operational Resilience for Financial Institutions
DESCRIPTION:In a time when disruption is constant and unpredictable\, resilience has become one of the most valuable assets for financial institutions. The 2nd Annual Operational Resilience for Financial Institutions Conference by Marcus Evans brings together senior leaders\, regulators and industry experts to explore how organisations can strengthen their capacity to withstand shocks while maintaining trust and stability.
URL:https://riskandresiliencehub.com/event/operational-resilience-for-financial-institutions/
LOCATION:CA
CATEGORIES:Enterprise Resilience
ATTACH;FMTTYPE=image/jpeg:https://riskandresiliencehub.com/wp-content/uploads/2025/12/Operational_Resilience_for_Financial_Institutions_2026.jpg
END:VEVENT
BEGIN:VEVENT
DTSTART;VALUE=DATE:20260427
DTEND;VALUE=DATE:20260430
DTSTAMP:20260425T023430
CREATED:20200815T194628Z
LAST-MODIFIED:20251021T070002Z
UID:10000247-1777248000-1777507199@riskandresiliencehub.com
SUMMARY:Continuity Insights Management Conference 2026
DESCRIPTION:If you’re ready to move beyond the basics and into the strategic core of operational resilience\, this is where your next chapter begins. \nAt the Continuity Insights Management Conference\, you’ll join fellow business continuity and resilience professionals in a peer-driven environment built for advanced discussion\, strategic depth\, and practical\, real-world takeaways. \nThis isn’t a 101-level event. CIMC is the masterclass for seasoned professionals navigating uncertainty across multiple departments and interconnected systems.
URL:https://riskandresiliencehub.com/event/annual-continuity-insights-conference/
LOCATION:Gila River Resorts & Casinos\, Phoenix\, AZ
ATTACH;FMTTYPE=image/jpeg:https://riskandresiliencehub.com/wp-content/uploads/2019/03/shutterstock_479633479.jpg
END:VEVENT
BEGIN:VEVENT
DTSTART;VALUE=DATE:20260428
DTEND;VALUE=DATE:20260501
DTSTAMP:20260425T023430
CREATED:20251210T135130Z
LAST-MODIFIED:20251210T135331Z
UID:10000312-1777334400-1777593599@riskandresiliencehub.com
SUMMARY:EMAT Conference 2026
DESCRIPTION:Murfreesboro\, TN
URL:https://riskandresiliencehub.com/event/emat-conference-2026/
LOCATION:CA
ATTACH;FMTTYPE=image/png:https://riskandresiliencehub.com/wp-content/uploads/2025/12/EMAT_logo.png
END:VEVENT
BEGIN:VEVENT
DTSTART;VALUE=DATE:20260503
DTEND;VALUE=DATE:20260507
DTSTAMP:20260425T023430
CREATED:20200815T204350Z
LAST-MODIFIED:20250809T225831Z
UID:10000249-1777766400-1778111999@riskandresiliencehub.com
SUMMARY:RISK WORLD 2026
DESCRIPTION:RISKWORLD is home to the best networking in the risk management industry\, bringing together professionals at every level for meaningful conversations\, career-building connections\, and collaborative opportunities that spark real change.
URL:https://riskandresiliencehub.com/event/rims-2024/
LOCATION:CA
ATTACH;FMTTYPE=image/png:https://riskandresiliencehub.com/wp-content/uploads/2020/08/RISKWORLDPicture_3094534.png
ORGANIZER;CN="RIMS":MAILTO:conferenceadmin@rims.org
END:VEVENT
BEGIN:VEVENT
DTSTART;VALUE=DATE:20260507
DTEND;VALUE=DATE:20260508
DTSTAMP:20260425T023430
CREATED:20251206T195429Z
LAST-MODIFIED:20251206T195429Z
UID:10000302-1778112000-1778198399@riskandresiliencehub.com
SUMMARY:Financial Services Operational & Organisational Resilience Conference 2026
DESCRIPTION:Following on from DORA going live at the beginning of 2025\, join senior resilience experts from across Financial Services as they unite for invaluable peer benchmarking at this one-day\, business-focused conference in Amsterdam\, covering only the business-critical updates that are required to achieve embedded and sustained operational resilience for the future.
URL:https://riskandresiliencehub.com/event/financial-services-operational-organisational-resilience-conference-2026/
LOCATION:CA
CATEGORIES:Enterprise Resilience
ATTACH;FMTTYPE=image/jpeg:https://riskandresiliencehub.com/wp-content/uploads/2025/12/Financial_Services_Operational__Organisational_Resilience_Conference_2026.jpg
END:VEVENT
BEGIN:VEVENT
DTSTART;VALUE=DATE:20260514
DTEND;VALUE=DATE:20260515
DTSTAMP:20260425T023430
CREATED:20251206T200411Z
LAST-MODIFIED:20251206T200411Z
UID:10000303-1778716800-1778803199@riskandresiliencehub.com
SUMMARY:Information Security and Operational Resilience Conference
DESCRIPTION:Join us on May 14 for the IIB’s Information Security & Operational Resilience Conference. The full-day event will include a stellar lineup of speakers and expert panelists who will discuss the latest regulatory developments\, supervisory expectations\, and industry best practices with respect to cybersecurity\, artificial intelligence\, third-party risk management\, and more. The conference will also feature an engaging tabletop exercise that will focus on critical steps firms should take to respond to incidents\, deal with ransomware\, manage the process of reconnection/return to operations\, and provide notification to customers and regulators.
URL:https://riskandresiliencehub.com/event/information-security-and-operational-resilience-conference/
LOCATION:CA
CATEGORIES:IT Availability & Security
ATTACH;FMTTYPE=image/jpeg:https://riskandresiliencehub.com/wp-content/uploads/2025/12/IIB_logo.jpg
END:VEVENT
BEGIN:VEVENT
DTSTART;VALUE=DATE:20260519
DTEND;VALUE=DATE:20260521
DTSTAMP:20260425T023430
CREATED:20251206T201426Z
LAST-MODIFIED:20251206T201426Z
UID:10000304-1779148800-1779321599@riskandresiliencehub.com
SUMMARY:Risk Americas
DESCRIPTION:Join senior experts and thought leaders to explore the latest challenges\, innovations\, and regulatory developments within financial services.
URL:https://riskandresiliencehub.com/event/risk-americas/
LOCATION:CA
CATEGORIES:Enterprise Resilience
ATTACH;FMTTYPE=image/png:https://riskandresiliencehub.com/wp-content/uploads/2025/12/Risk_Americas_2026.png
END:VEVENT
BEGIN:VEVENT
DTSTART;VALUE=DATE:20260521
DTEND;VALUE=DATE:20260523
DTSTAMP:20260425T023430
CREATED:20260418T230002Z
LAST-MODIFIED:20260418T230002Z
UID:10000319-1779321600-1779494399@riskandresiliencehub.com
SUMMARY:Risk-!n
DESCRIPTION:For Whom: CEOs\, CFOs\, and all C-Suite executives\, decision makers\, Heads involved in Prevention\, Risk and Continuity\, Audit\, Project management\, Procurement\, Insurance buyers and Insurance managers. \nSecurity managers involved in data privacy\, people\, products and assets and also managers involved in Captive management & risk financing. \n-What are todays’ challenges and how to immediately respond?\n-What are perspectives on these risks/challenges and how to approach them?\n-How are these challenges evolving and how to get ready?
URL:https://riskandresiliencehub.com/event/risk-n/
LOCATION:Zurich Marriott Hotel\, Switzerland
ATTACH;FMTTYPE=image/png:https://riskandresiliencehub.com/wp-content/uploads/2026/04/Risk-n-2026-logo.png
END:VEVENT
BEGIN:VEVENT
DTSTART;VALUE=DATE:20260531
DTEND;VALUE=DATE:20260604
DTSTAMP:20260425T023430
CREATED:20251230T201426Z
LAST-MODIFIED:20251230T201426Z
UID:10000317-1780185600-1780531199@riskandresiliencehub.com
SUMMARY:ISCRAM
DESCRIPTION:The Hague\, the Netherlands – The theme of ISCRAM 2026\, ‘Building Stronger Futures’\, highlights the collective risks posed by natural hazards\, cybersecurity\, artificial intelligence\, critical infrastructure\, and climate change. The conference will explore a broad range of crises to enhance our understanding of compound risks across sectors. Specific focus areas will include climate change\, cybersecurity\, civil defense\, critical infrastructure\, and public health.
URL:https://riskandresiliencehub.com/event/iscram/
LOCATION:CA
CATEGORIES:Enterprise Resilience
ATTACH;FMTTYPE=image/png:https://riskandresiliencehub.com/wp-content/uploads/2025/12/ISCRAM_2026_listening-5-1024x683-1.png
END:VEVENT
BEGIN:VEVENT
DTSTART;VALUE=DATE:20260601
DTEND;VALUE=DATE:20260604
DTSTAMP:20260425T023430
CREATED:20231229T193432Z
LAST-MODIFIED:20260131T194434Z
UID:10000277-1780272000-1780531199@riskandresiliencehub.com
SUMMARY:Gartner Security and Risk Management Summit
DESCRIPTION:National Harbotr\, MD – This is the annual cybersecurity event you can’t miss. Join a community of CISOs\, cybersecurity leaders\, Gartner experts and service providers to secure your organization in the face of increasingly complex and evolving cyberthreats.
URL:https://riskandresiliencehub.com/event/gartner-security-and-risk-management-summit-2024/
LOCATION:CA
CATEGORIES:Enterprise Resilience
ATTACH;FMTTYPE=image/jpeg:https://riskandresiliencehub.com/wp-content/uploads/2019/03/shutterstock_737530093.jpg
ORGANIZER;CN="Gartner":MAILTO:GartnerGlobalEvents@gartner.com
END:VEVENT
BEGIN:VEVENT
DTSTART;VALUE=DATE:20260721
DTEND;VALUE=DATE:20260723
DTSTAMP:20260425T023430
CREATED:20251210T142235Z
LAST-MODIFIED:20251210T142235Z
UID:10000315-1784592000-1784764799@riskandresiliencehub.com
SUMMARY:Disaster Resilience Across the Chattahoochee Valley Conference
DESCRIPTION:Columbus\, GA – The Georgia Alabama Partnership for Sustainability will host the 2026 Disaster Resilience Across the Chattahoochee Valley Conference to address emergency preparedness. \nThis conference is designed to help the Chattahoochee Valley prepare for gaps in key infrastructure services before\, during and after a disaster\, including loss of power\, water\, utilities and other energy shortages.
URL:https://riskandresiliencehub.com/event/disaster-resilience-across-the-chattahoochee-valley-conference/
LOCATION:CA
CATEGORIES:Enterprise Resilience
ATTACH;FMTTYPE=image/png:https://riskandresiliencehub.com/wp-content/uploads/2025/12/Disaster_Resilience_Across_the_Chattahoochee_Valley_Conference_2026-scaled.png
END:VEVENT
BEGIN:VEVENT
DTSTART;VALUE=DATE:20260811
DTEND;VALUE=DATE:20260813
DTSTAMP:20260425T023430
CREATED:20260418T231221Z
LAST-MODIFIED:20260418T231221Z
UID:10000320-1786406400-1786579199@riskandresiliencehub.com
SUMMARY:AI Risk Summit
DESCRIPTION:Securing AI in the Enterprise \nThe Artificial Intelligence (AI) Risk Summit is the leading conference where technology\, security\, and risk leaders converge with AI researchers\, developers\, and policy makers shaping the future of enterprise AI.
URL:https://riskandresiliencehub.com/event/ai-risk-summit/
LOCATION:Ritz-Carlton\, Half Moon Bay\, CA\, United States
CATEGORIES:IT Availability & Security
ATTACH;FMTTYPE=image/png:https://riskandresiliencehub.com/wp-content/uploads/2026/04/AI-Risk-Summit-logo-2026.png
END:VEVENT
BEGIN:VEVENT
DTSTART;VALUE=DATE:20260817
DTEND;VALUE=DATE:20260820
DTSTAMP:20260425T023430
CREATED:20251206T210338Z
LAST-MODIFIED:20251206T210338Z
UID:10000307-1786924800-1787183999@riskandresiliencehub.com
SUMMARY:Governance\, Risk & Controls Conference
DESCRIPTION:Governance. Risk. Controls. The IIA and ISACA invite you to the Gaylord Pacific Resort & Convention Center in sunny San Diego\, CA\, for the next edition of the GRC Conference. Join a global community of forward-thinking professionals as we explore emerging trends\, sharpen risk strategies\, and reinforce governance frameworks — in person and inspired by our most dynamic learning experiences to date.
URL:https://riskandresiliencehub.com/event/governance-risk-controls-conference/
LOCATION:CA
CATEGORIES:Enterprise Resilience
ATTACH;FMTTYPE=image/jpeg:https://riskandresiliencehub.com/wp-content/uploads/2025/12/grc-2026-save-the-date_1200x600.jpg
END:VEVENT
BEGIN:VEVENT
DTSTART;VALUE=DATE:20260909
DTEND;VALUE=DATE:20260911
DTSTAMP:20260425T023430
CREATED:20251206T204656Z
LAST-MODIFIED:20251206T204656Z
UID:10000306-1788912000-1789084799@riskandresiliencehub.com
SUMMARY:Saudi GRC 2026  ﻿Conference
DESCRIPTION:The Saudi GRC (Governance\, Risk\, and Compliance) Conference 2026\, taking place in Riyadh\, Saudi Arabia\, is the premier gathering dedicated to advancing excellence in governance\, strengthening risk resilience\, and ensuring regulatory compliance in today’s rapidly evolving environment. \nThis flagship event will once again bring together regional and international leaders\, experts\, regulators\, and practitioners to exchange knowledge\, share best practices\, and explore strategies for building stronger\, future-ready organizations aligned with Vision 2030.
URL:https://riskandresiliencehub.com/event/saudi-grc-2026-conference/
LOCATION:CA
CATEGORIES:Enterprise Resilience
ATTACH;FMTTYPE=image/jpeg:https://riskandresiliencehub.com/wp-content/uploads/2025/12/Saudi_GRC_2026-scaled.jpg
END:VEVENT
BEGIN:VEVENT
DTSTART;VALUE=DATE:20260913
DTEND;VALUE=DATE:20260917
DTSTAMP:20260425T023430
CREATED:20200815T192402Z
LAST-MODIFIED:20251021T071606Z
UID:10000245-1789257600-1789603199@riskandresiliencehub.com
SUMMARY:DRJ Fall 2026
DESCRIPTION:Grapevine\, TX – Learn about the tools\, build the connections\, and receive the education you need to ensure your business is prepared for any situation. Be confident you can reduce downtime\, ensure workplace safety and protect data integrity. This kind of knowledge and first-hand experience can’t be gained from reading an article or watching a short 10-minute video. Get the instant access and contact with the real industry experts who can help you make the difference in your business. You’ve got an important job to do and we can give you the tools you need to do it successfully.
URL:https://riskandresiliencehub.com/event/drj-fall-2024/
LOCATION:CA
ATTACH;FMTTYPE=image/jpeg:https://riskandresiliencehub.com/wp-content/uploads/2023/12/shutterstock_1025558308-jpg.webp
ORGANIZER;CN="Disaster Recovery Journal":MAILTO:info@drj.com
END:VEVENT
BEGIN:VEVENT
DTSTART;VALUE=DATE:20261110
DTEND;VALUE=DATE:20261112
DTSTAMP:20260425T023430
CREATED:20200818T050532Z
LAST-MODIFIED:20251206T184216Z
UID:10000252-1794268800-1794441599@riskandresiliencehub.com
SUMMARY:BCI World Hybrid 2026
DESCRIPTION:BCI World Hybrid – the global conference of choice for business continuity & resilience professionals.
URL:https://riskandresiliencehub.com/event/bci-world-hybrid-conference/
LOCATION:CA
ATTACH;FMTTYPE=image/jpeg:https://riskandresiliencehub.com/wp-content/uploads/2020/08/BCI_World_Hybrid_2026.jpg
END:VEVENT
BEGIN:VEVENT
DTSTART;VALUE=DATE:20261118
DTEND;VALUE=DATE:20261120
DTSTAMP:20260425T023430
CREATED:20251206T213853Z
LAST-MODIFIED:20251206T213853Z
UID:10000310-1794960000-1795132799@riskandresiliencehub.com
SUMMARY:National Disaster Resilience Conference (NDRC)
DESCRIPTION:Save the date for the 2026 National Disaster Resilience Conference (NDRC2026)\, where we will provide the latest insights and information to connect you with practical knowledge on how to build\, buy\, rebuild\, and sell resilient\, insurable homes that protect families and ensure your community can bounce back swiftly when disasters strike. \nOur program will showcase best practices in construction innovation\, public policy\, and private market programs from expert presenters spanning academia\, elected officials\, financial services\, home builders\, leaders\, public officials\, researchers\, scientists\, and stakeholders committed to disaster resilience. Each section of NDRC2026 will include a “What’s Next?” session\, offering in-person attendees a roundtable opportunity to engage with and synthesize the dynamic information and networking for implementation.
URL:https://riskandresiliencehub.com/event/national-disaster-resilience-conference-ndrc/
LOCATION:CA
CATEGORIES:Enterprise Resilience
ATTACH;FMTTYPE=image/png:https://riskandresiliencehub.com/wp-content/uploads/2025/12/NDRC_2026.png
END:VEVENT
END:VCALENDAR