BEGIN:VCALENDAR
VERSION:2.0
PRODID:-//Risk and Resilience Hub - ECPv6.15.18//NONSGML v1.0//EN
CALSCALE:GREGORIAN
METHOD:PUBLISH
X-WR-CALNAME:Risk and Resilience Hub
X-ORIGINAL-URL:https://riskandresiliencehub.com
X-WR-CALDESC:Events for Risk and Resilience Hub
REFRESH-INTERVAL;VALUE=DURATION:PT1H
X-Robots-Tag:noindex
X-PUBLISHED-TTL:PT1H
BEGIN:VTIMEZONE
TZID:UTC
BEGIN:STANDARD
TZOFFSETFROM:+0000
TZOFFSETTO:+0000
TZNAME:UTC
DTSTART:20250101T000000
END:STANDARD
END:VTIMEZONE
BEGIN:VEVENT
DTSTART;VALUE=DATE:20260427
DTEND;VALUE=DATE:20260430
DTSTAMP:20260425T002731
CREATED:20200815T194628Z
LAST-MODIFIED:20251021T070002Z
UID:10000247-1777248000-1777507199@riskandresiliencehub.com
SUMMARY:Continuity Insights Management Conference 2026
DESCRIPTION:If you’re ready to move beyond the basics and into the strategic core of operational resilience\, this is where your next chapter begins. \nAt the Continuity Insights Management Conference\, you’ll join fellow business continuity and resilience professionals in a peer-driven environment built for advanced discussion\, strategic depth\, and practical\, real-world takeaways. \nThis isn’t a 101-level event. CIMC is the masterclass for seasoned professionals navigating uncertainty across multiple departments and interconnected systems.
URL:https://riskandresiliencehub.com/event/annual-continuity-insights-conference/
LOCATION:Gila River Resorts & Casinos\, Phoenix\, AZ
ATTACH;FMTTYPE=image/jpeg:https://riskandresiliencehub.com/wp-content/uploads/2019/03/shutterstock_479633479.jpg
END:VEVENT
BEGIN:VEVENT
DTSTART;VALUE=DATE:20260428
DTEND;VALUE=DATE:20260501
DTSTAMP:20260425T002731
CREATED:20251210T135130Z
LAST-MODIFIED:20251210T135331Z
UID:10000312-1777334400-1777593599@riskandresiliencehub.com
SUMMARY:EMAT Conference 2026
DESCRIPTION:Murfreesboro\, TN
URL:https://riskandresiliencehub.com/event/emat-conference-2026/
LOCATION:CA
ATTACH;FMTTYPE=image/png:https://riskandresiliencehub.com/wp-content/uploads/2025/12/EMAT_logo.png
END:VEVENT
END:VCALENDAR