BEGIN:VCALENDAR
VERSION:2.0
PRODID:-//Risk and Resilience Hub - ECPv6.15.18//NONSGML v1.0//EN
CALSCALE:GREGORIAN
METHOD:PUBLISH
X-ORIGINAL-URL:https://riskandresiliencehub.com
X-WR-CALDESC:Events for Risk and Resilience Hub
REFRESH-INTERVAL;VALUE=DURATION:PT1H
X-Robots-Tag:noindex
X-PUBLISHED-TTL:PT1H
BEGIN:VTIMEZONE
TZID:UTC
BEGIN:STANDARD
TZOFFSETFROM:+0000
TZOFFSETTO:+0000
TZNAME:UTC
DTSTART:20250101T000000
END:STANDARD
END:VTIMEZONE
BEGIN:VEVENT
DTSTART;VALUE=DATE:20260420
DTEND;VALUE=DATE:20260423
DTSTAMP:20260425T002933
CREATED:20251206T194034Z
LAST-MODIFIED:20251206T194034Z
UID:10000301-1776643200-1776902399@riskandresiliencehub.com
SUMMARY:Operational Resilience for Financial Institutions
DESCRIPTION:In a time when disruption is constant and unpredictable\, resilience has become one of the most valuable assets for financial institutions. The 2nd Annual Operational Resilience for Financial Institutions Conference by Marcus Evans brings together senior leaders\, regulators and industry experts to explore how organisations can strengthen their capacity to withstand shocks while maintaining trust and stability.
URL:https://riskandresiliencehub.com/event/operational-resilience-for-financial-institutions/
LOCATION:CA
CATEGORIES:Enterprise Resilience
ATTACH;FMTTYPE=image/jpeg:https://riskandresiliencehub.com/wp-content/uploads/2025/12/Operational_Resilience_for_Financial_Institutions_2026.jpg
END:VEVENT
END:VCALENDAR